Workbook
Name adpi.: 'HSC-AD data'!$B$2:$B$5
Name face250: 'HSC-AD data'!$M$33:$M$34
Name face355: 'HSC-AD data'!$N$33:$N$36
Name face500: 'HSC-AD data'!$O$33:$O$35
Name size.: 'HSC-AD data'!$C$57:$C$61

Sheet HSC-AD
C2: SMARTEMP PRODUCT SELECTION CALCULATOR
C3: Adjustable Helical Swirl Diffuser [HSC-AD]
C5: Project: | D5: <Project Name>
C7: Inputs | J7: Optional | X7: v 5.4 [08/19]
D9: Diffuser Airflow Rate | E9: 600 | G9: [L/s] | H9: [m3/h] | K9: ADPI ≥ | L9: 0.9 | N9: default ≥ 90%
E10: ="= "&ROUND(E9*'Equations HSC-AD'!C6,1) -> = 2160 | F10: ='Equations HSC-AD'!D6 -> m³/h
D11: Turndown to | E11: 100 | F11: % | J11: Draught Rating & Heating
D13: Maximum Static Pressure | E13: 60 | F13: Pa | G13: default 60 Pa | J13: Diffuser Distance = Average(Max, Min) Centreline Distance
J14: OR | L14: ="nominal distance = "&ROUND('Equations HSC-AD'!C209,1) -> nominal distance = 10.1 | M14: m | N14: see rows 47 and 48
D15: Diffuser Height | E15: 6 | F15: m | G15: 2 m ≤ height ≤ 20 m | J15: Manual Diffuser Distance | L15: 11.7 | M15: m | N15: centreline distance between diffusers
J16: OR | L16: ="= specific airflow rate: "&ROUND('Equations HSC-AD'!C199,1) -> = specific airflow rate: 5.9 | M16: ='Equations HSC-AD'!G3 -> L/s/m²
D17: ΔT (cooling) | E17: -12 | F17: K | G17: 0 K to -15 K (default -12 K) | J17: Specific Airflow Rate | L17: 10 | M17: ='Equations HSC-AD'!G3 -> L/s/m² | N17: =IF('Equations HSC-AD'!C3=1,"≤ 30 L/s/m²","≤ 108 m³/h/m²") -> ≤ 30 L/s/m²
L18: ="average diffuser centreline distance: " & ROUND('Equations HSC-AD'!C200,1) -> average diffuser centreline distance: 10.1 | M18: m
K19: Diffuser Location | M19: Closed Ceiling | N19: Freely Suspended (≥ 600mm below ceiling)
K21: ΔT (heating) | L21: 4 | M21: K | N21: check for manual input
K23: Room Temperature (cooling) | L23: 23 | M23: °C | N23: 20 °C to 26 °C
K25: Room Temperature (heating) | L25: 20 | M25: °C | N25: check for manual input
L26: ="auto room temp. (heating) = "& 'Equations HSC-AD'!C23 -> auto room temp. (heating) = 21 | M26: °C
K27: Room Temp. @ heating startup | L27: 16 | M27: °C | N27: night setback temperature
K29: % Low Level Return (heating) | L29: 0 | N29: 0% to 100% (default 0%)
K31: Thermal Comfort Guide
K32: ADPI ≥ 95%; ṽ ≤ 0.20 m/s: | L32: Premium comfort, sedentary activity, such as in auditoria.
K33: ADPI ≥ 90%; ṽ ≤ 0.25 m/s: | L33: High comfort near-sedentary activity, such as in board rooms, high end offices and libraries.
K34: ADPI ≥ 80%; ṽ ≤ 0.29 m/s: | L34: Good comfort near sedentary activity, such as open-plan offices and meeting rooms.
K35: ADPI ≥ 70%; ṽ ≤ 0.33 m/s: | L35: Standard comfort medium activity, such as in transient spaces, retail and lobbies.
N38: not available in all regions | P38: FUSION DN1340 | U38: Key: | V38: Suitable | W38: Not Suitable | X38: Warning
F39: DN250-R1 | G39: DN250-R0 | H39: DN355-R1 | I39: DN355-R0 | J39: DN500-R1 | K39: DN500-R0 | L39: DN710-R1 | M39: DN710-R0 | N39: DN1000-R1 | O39: DN1000-R0 | U39: Note: | V39: R0 - no reducer; R1 - with reducer
C40: ='Equations HSC-AD'!B244 -> Max Airflow [L/s] | F40: ='Equations HSC-AD'!C244 -> 600 | G40: ='Equations HSC-AD'!D244 -> 600 | H40: ='Equations HSC-AD'!E244 -> 600 | I40: ='Equations HSC-AD'!F244 -> 600 | J40: ='Equations HSC-AD'!G244 -> 600 | K40: ='Equations HSC-AD'!H244 -> 600 | L40: ='Equations HSC-AD'!I244 -> 600 | M40: ='Equations HSC-AD'!J244 -> 600 | ... P40: ='Equations HSC-AD'!M244 -> 600 | U40: Note: | V40: Max operating temperature 50°C
C41: ='Equations HSC-AD'!B245 -> Max Permissible Airflow [L/s] | F41: ='Equations HSC-AD'!C245 -> 178.55755 | G41: ='Equations HSC-AD'!D245 -> 199.37101 | H41: ='Equations HSC-AD'!E245 -> 358.21055 | I41: ='Equations HSC-AD'!F245 -> 451.32339 | J41: ='Equations HSC-AD'!G245 -> 660.5534 | K41: ='Equations HSC-AD'!H245 -> 779.95692 | L41: ='Equations HSC-AD'!I245 -> 1331.9399 | M41: ='Equations HSC-AD'!J245 -> 1572.7051 | ... P41: ='Equations HSC-AD'!M245 -> 5601.9626
C42: ='Equations HSC-AD'!B246 -> Min Airflow (Turndown To) [L/s] | F42: ='Equations HSC-AD'!C246 -> 600 | G42: ='Equations HSC-AD'!D246 -> 600 | H42: ='Equations HSC-AD'!E246 -> 600 | I42: ='Equations HSC-AD'!F246 -> 600 | J42: ='Equations HSC-AD'!G246 -> 600 | K42: ='Equations HSC-AD'!H246 -> 600 | L42: ='Equations HSC-AD'!I246 -> 600 | M42: ='Equations HSC-AD'!J246 -> 600 | ... O42: ='Equations HSC-AD'!L246 -> 600
C43: ='Equations HSC-AD'!B247 -> Min Permissible Airflow [L/s] | F43: ='Equations HSC-AD'!C247 -> 59.1 | G43: ='Equations HSC-AD'!D247 -> 84.4 | H43: ='Equations HSC-AD'!E247 -> 118.9 | I43: ='Equations HSC-AD'!F247 -> 169.6 | J43: ='Equations HSC-AD'!G247 -> 234.6 | K43: ='Equations HSC-AD'!H247 -> 335 | L43: ='Equations HSC-AD'!I247 -> 471.8 | M43: ='Equations HSC-AD'!J247 -> 672.6 | ... P43: ='Equations HSC-AD'!M247 -> 2385.9933
C44: Static Pressure @ Airflow Rate [Pa] | F44: ='Equations HSC-AD'!C248 -> 585.97122 | G44: ='Equations HSC-AD'!D248 -> 451.90258 | H44: ='Equations HSC-AD'!E248 -> 145.82911 | I44: ='Equations HSC-AD'!F248 -> 83.535153 | J44: ='Equations HSC-AD'!G248 -> 43.784347 | K44: ='Equations HSC-AD'!H248 -> 29.787502 | L44: ='Equations HSC-AD'!I248 -> 10.768755 | M44: ='Equations HSC-AD'!J248 -> 7.3262327 | ... P44: ='Equations HSC-AD'!M248 -> < 5
C45: Total Pressure @ Airflow Rate [Pa] | F45: ='Equations HSC-AD'!C249 -> 677.48128 | G45: ='Equations HSC-AD'!D249 -> 543.41263 | H45: ='Equations HSC-AD'!E249 -> 168.336 | I45: ='Equations HSC-AD'!F249 -> 106.04204 | J45: ='Equations HSC-AD'!G249 -> 49.503725 | K45: ='Equations HSC-AD'!H249 -> 35.50688 | L45: ='Equations HSC-AD'!I249 -> 12.175435 | M45: ='Equations HSC-AD'!J249 -> < 10 | ... P45: ='Equations HSC-AD'!M249 -> < 10
C46: Max Permissible Static Pressure [Pa] | F46: ='Equations HSC-AD'!C250 -> 60 | G46: ='Equations HSC-AD'!D250 -> 60 | H46: ='Equations HSC-AD'!E250 -> 60 | I46: ='Equations HSC-AD'!F250 -> 60 | J46: ='Equations HSC-AD'!G250 -> 60 | K46: ='Equations HSC-AD'!H250 -> 60 | L46: ='Equations HSC-AD'!I250 -> 60 | M46: ='Equations HSC-AD'!J250 -> 60 | ... P46: ='Equations HSC-AD'!M250 -> 60
C47: Sound Power Level [dB(A)] | F47: ='Equations HSC-AD'!C251 -> 86.189516 | G47: ='Equations HSC-AD'!D251 -> 81.575059 | H47: ='Equations HSC-AD'!E251 -> 70.338786 | I47: ='Equations HSC-AD'!F251 -> 61.193019 | J47: ='Equations HSC-AD'!G251 -> 51.333043 | K47: ='Equations HSC-AD'!H251 -> 45.981392 | L47: ='Equations HSC-AD'!I251 -> 32.947463 | M47: ='Equations HSC-AD'!J251 -> 29.070296 | ... P47: ='Equations HSC-AD'!M251 -> < 20
C48: =IF('Equations HSC-AD'!C25,"Guide Ring Position* @ 'ΔT (heating)'","Max Recommended ΔT (heating) [K]") -> Max Recommended ΔT (heating) [K] | F48: ='Equations HSC-AD'!C252 -> 81.00651 | G48: ='Equations HSC-AD'!D252 -> 56.796294 | H48: ='Equations HSC-AD'!E252 -> 28.228606 | I48: ='Equations HSC-AD'!F252 -> 19.83604 | J48: ='Equations HSC-AD'!G252 -> 10.125814 | K48: ='Equations HSC-AD'!H252 -> 7.0995368 | L48: ='Equations HSC-AD'!I252 -> 3.5285758 | M48: ='Equations HSC-AD'!J252 -> 2.479505 | ... P48: ='Equations HSC-AD'!M252 -> < +1 K | Q48: Warning: Maximum Permissible ΔT < Selected ΔT (heating) when guide ring is fully down
C49: Room Temp. @ heating startup [°C] | F49: ='Equations HSC-AD'!C253 -> 16 | G49: ='Equations HSC-AD'!D253 -> 16 | H49: ='Equations HSC-AD'!E253 -> 16 | I49: ='Equations HSC-AD'!F253 -> 16 | J49: ='Equations HSC-AD'!G253 -> 16 | K49: ='Equations HSC-AD'!H253 -> 16 | L49: ='Equations HSC-AD'!I253 -> 16 | M49: ='Equations HSC-AD'!J253 -> 16 | ... P49: ='Equations HSC-AD'!M253 -> - | Q49: * | R49: 'Guide Ring Position' @ max ΔT is the distance from diffuser face to guide ring trailing edge
C50: Max Recommended Centreline Dist. [m] | F50: ='Equations HSC-AD'!C254 -> - | G50: ='Equations HSC-AD'!D254 -> 44.5 | H50: ='Equations HSC-AD'!E254 -> 19.6 | I50: ='Equations HSC-AD'!F254 -> 17.2 | J50: ='Equations HSC-AD'!G254 -> 15.5 | K50: ='Equations HSC-AD'!H254 -> 14.9 | L50: ='Equations HSC-AD'!I254 -> 13.6 | M50: ='Equations HSC-AD'!J254 -> 13.4 | ... P50: ='Equations HSC-AD'!M254 -> 12.7
C51: Min Recommended Centreline Dist. [m] | F51: ='Equations HSC-AD'!C255 -> - | G51: ='Equations HSC-AD'!D255 -> 31.2 | H51: ='Equations HSC-AD'!E255 -> 7 | I51: ='Equations HSC-AD'!F255 -> 6.3 | J51: ='Equations HSC-AD'!G255 -> 5.7 | K51: ='Equations HSC-AD'!H255 -> 5.5 | L51: ='Equations HSC-AD'!I255 -> 5.1 | M51: ='Equations HSC-AD'!J255 -> 5.1 | ... P51: ='Equations HSC-AD'!M255 -> 4.8 | Q51: =IF('Equations HSC-AD'!N319,"Min Distance > Max Distance. Consider increasing turndown to (Cell E11)","")
C52: Min Recommended Diffuser Height [m] | F52: ='Equations HSC-AD'!C256 -> 2.8 | G52: ='Equations HSC-AD'!D256 -> 2.8 | H52: ='Equations HSC-AD'!E256 -> 2.8 | I52: ='Equations HSC-AD'!F256 -> 3.3 | J52: ='Equations HSC-AD'!G256 -> 3.9 | K52: ='Equations HSC-AD'!H256 -> 4.4 | L52: ='Equations HSC-AD'!I256 -> 5 | M52: ='Equations HSC-AD'!J256 -> 5.5 | ... P52: ='Equations HSC-AD'!M256 -> 7.2
...

Sheet Equations HSC-AD
B1: Units
B3: Unit Type | C3: 1 | D3: =IF(C3=1,"[L/s]","[m³/h]") -> [L/s] | E3: =IF(C3=1,"L/s","m³/h") -> L/s | G3: =IF(C3=1,"L/s/m²","m³/h/m²") -> L/s/m²
B4: Multiplier | C4: =IF(C3=1,1,3.6) -> 1
B6: Alternate | C6: =IF(C3=1,3.6,1/3.6) -> 3.6 | D6: =IF(C3=2,"L/s","m³/h") -> m³/h
B8: Input
B10: Size
B11: Max airflow rate | C11: ='HSC-AD'!E9/C4 -> 600
B12: Turndown to | C12: ='HSC-AD'!E11/100 -> 1
B13: min flowrate | C13: =C12*C11 -> 600
B14: max pressure | C14: ='HSC-AD'!E13 -> 60
B15: diffuser height | C15: ='HSC-AD'!E15 -> 6
B16: dT cooling | C16: =IF(ABS('HSC-AD'!E17)<6,6,ABS('HSC-AD'!E17)) -> 12
B17: Tn.s. | C17: ='HSC-AD'!$L$27 -> 16
B19: adpi | C19: ='HSC-AD'!L9 -> 0.9
B20: Mean room v | C20: =VLOOKUP(C19,'HSC-AD data'!B2:C5,2,0) -> 0.25
B21: Room Temp Cooling | C21: ='HSC-AD'!$L$23 -> 23 | D21: C
B22: room temp checkbox | C22: FALSE
B23: Room Temp Heating | C23: =IF(C22,'HSC-AD'!L25,'Equations HSC-AD'!C21-2) -> 21
B24: T max Correction | C24: =VLOOKUP(C19,B31:C34,2,0) -> 4 | D24: K
B25: dT heating checkbox | C25: FALSE
B26: dT heating manual input | C26: ='HSC-AD'!L21 -> 4 | D26: K
B27: adjusted heating height | C27: =IF(C15<4.5, 1.39*C15-1.75,C15) -> 6
B29: Hmin
B30: adpi | E30: Hmin factor | F30: Factor
B31: 0.7 | C31: 0 | D31: =(C34-C31)/25 -> 0.2 | E31: 0.9 | F31: =VLOOKUP(C19,B31:E34,4,0) -> 1.1
B32: 0.8 | C32: =C31+D31*10 -> 2 | E32: 1
B33: 0.9 | C33: =C31+D31*20 -> 4 | E33: 1.1
B34: 0.95 | C34: =C23-C17 -> 5 | E34: 1.15
B36: Freely Suspended | C36: 2 | D36: =IF(C36=1,"ceiling","free") -> free
B37: Cmin Multiplier | C37: =IF(C36=1,1,0.85) -> 0.85
B38: Cmax Multiplier | C38: =IF(C36=1,1,0.8) -> 0.8
B40: Cmin | C40: x = velocity
B41: H | C41: ax | D41: ^b | E41: Q''
B42: 2.7 | C42: 4510 | D42: 2.2693 | E42: =C42*$C$20^D42 -> 194.05364
B43: 4 | C43: 3884 | D43: 2.2426 | E43: =C43*$C$20^D43 -> 173.42012
B44: 10 | C44: 3435 | D44: 2.2754 | E44: =C44*$C$20^D44 -> 146.55459
B45: 30 | C45: 2736 | D45: 2.2624333 | E45: =C45*$C$20^D45 -> 118.84899
C46: Ax | D46: ^b | E46: Q'' Target
B47: =MIN($C$15,10) -> 6 | C47: =EXP(INDEX(LINEST(LN(E42:E45),LN(B42:B45),,),1,2)) -> 232.52865 | D47: =INDEX(LINEST(LN(E42:E45),LN(B42:B45),,),1) -> -0.1987981 | E47: =C47*B47^D47 -> 162.84765
B48: v' at Vmax | C48: =$E$47/$C$16 -> 13.570637
...

Sheet Acoustic_Tool

Sheet Charts
A1: 250
A3: 355
A5: 500
A7: 710
A9: 1000

Sheet Notes & Drawings
C2: SMARTEMP PRODUCT SELECTION CALCULATOR
C3: Adjustable Helical Swirl Diffuser [HSC-AD] Notes
C6: Ceiling Type
C7: Diffuser can be installed substantially flush with a false ceiling or freely suspended.
C9: Acoustics
C10: Without acoustic lining, the sound power level of the connection box is up to 2 dB(A) higher.
C12: Diffuser Dimensions
C14: Model | D14: D2 | E14: D4 | F14: E | G14: D5 | H14: L | I14: H1 | J14: H2 | K14: H3 | L14: F | M14: - note: dimensions currently not available
C15: DN355 | D15: =VLOOKUP($C$15,'HSC-AD data'!$C$57:$L$61,2,0) -> 395 | E15: =VLOOKUP($C$15,'HSC-AD data'!$C$57:$L$61,3,0) -> 530 | F15: =VLOOKUP($C$15,'HSC-AD data'!$C$57:$L$61,4,0) -> 445, 595, 603 | G15: =VLOOKUP($C$15,'HSC-AD data'!$C$57:$L$61,5,0) -> 354 | H15: =VLOOKUP($C$15,'HSC-AD data'!$C$57:$L$61,6,0) -> 495 | I15: =VLOOKUP($C$15,'HSC-AD data'!$C$57:$L$61,7,0) -> 550 | J15: =VLOOKUP($C$15,'HSC-AD data'!$C$57:$L$61,8,0) -> 20 | K15: =VLOOKUP($C$15,'HSC-AD data'!$C$57:$L$61,9,0) -> 80 | L15: =VLOOKUP($C$15,'HSC-AD data'!$C$57:$L$61,10,0) -> 320 | M15: * all dimensions in mm
C17: ="DN = "&D18 -> DN = 355 | D17: =D14&" = "&D15 -> D2 = 395 | E17: =E14&" = "&E15 -> D4 = 530 | F17: =F14&" = "&F15 -> E = 445, 595, 603 | G17: =G14&" = "&G15 -> D5 = 354 | H17: =H14&" = "&H15 -> L = 495 | I17: =I14&" = "&I15 -> H1 = 550 | J17: =J14&" = "&J15 -> H2 = 20 | K17: =K14&" = "&K15 -> H3 = 80 | L17: =L14&" = "&L15 -> F = 320
C18: ="> "& VLOOKUP($C$15,'HSC-AD data'!$C$57:$M$61,11,0) &"(1×DN)" -> > 355(1×DN) | D18: =VLOOKUP($C$15,'HSC-AD data'!$C$57:$M$61,11,0) -> 355
C19: ="D4 = Ø"&E15&" OR E = □"&F15 -> D4 = Ø530 OR E = □445, 595, 603
C58: Adjustment Type Description (for 'Product Code Generator')
C60: Symbol | D60: Description
C61: M | D61: Manual adjustment only.
C62: BE1 | D62: DN250-DN500: With base module and electric actuator 24V, 2-10V.
C63: BE2 | D63: DN250-DN500: With base module and electric actuator 24V, 3-pt (2-position).
C64: BT__ | D64: DN250-DN500: With base module and thermal actuator set to __ (22°C/26°C/30°C, default 26°C).
C65: E3 | D65: DN710: With electric actuator 24V, 2-10V.
C66: T__ | D66: DN710: With thermal actuator set to __ (22°C/26°C/30°C, default 26°C). AVAILABLE IN 2018.

Sheet HSC-AD data diagrams
A1: 250
A2: 355
A3: 500
A4: 710
A5: 1000
A7: Chart Title | B7: ="DN"&'HSC-AD data'!D19&"-R"&'HSC-AD data'!E19&" Electric Control Voltage (V) & Guide Ring Position (mm)" -> DN500-R0 Electric Control Voltage (V) & Guide Ring Position (mm)

Sheet HSC-AD data
B2: 0.95 | C2: 0.2
B3: 0.9 | C3: 0.25
B4: 0.8 | C4: 0.29
B5: 0.7 | C5: 0.33
C7: Product code
D8: DN | E8: R
C9: 1 | D9: 250 | E9: 1
C10: 2 | D10: 250 | E10: 0
C11: 3 | D11: 355 | E11: 1
C12: 4 | D12: 355 | E12: 0
C13: 5 | D13: 500 | E13: 1
C14: 6 | D14: 500 | E14: 0
C15: 7 | D15: 710 | E15: 1
C16: 8 | D16: 710 | E16: 0
C17: 9 | D17: 1000 | E17: 1 | H17: - option not available for size DN710 and DN1000
C18: 10 | D18: 1000 | E18: 0 | H18: - option not available for DN250 - DN500
B19: Model | C19: ='Equations HSC-AD'!C276 -> 6 | D19: =VLOOKUP(C19,C9:E18,2,0) -> 500 | E19: =VLOOKUP(C19,C9:E18,3,0) -> 0 | G19: warning
B20: Mode Code | C20: ="DN"&D19&"-R"&E19 -> DN500-R0
B22: Adjustment
C23: 0
C24: 1 | D24: M | E24: M | F24: Manual adjustment | G24: Manual
C25: 2 | D25: Electric motor 2-10V | E25: E1 | F25: =IF($C$19<=6,"Electric actuator 24V, 2-10V","selection not valid") -> Electric actuator 24V, 2-10V | G25: Electric
C26: 3 | D26: =IF(C19>=7, "N/A", "Electric motor 2-position") -> Electric motor 2-position | E26: E2 | F26: =IF($C$19<=6,"Electric actuator 24V, 3-pt (2 position)","selection not valid") -> Electric actuator 24V, 3-pt (2 position) | G26: Electric
C27: 4 | D27: =IF(ISNUMBER(E29),"Thermal actuator set to " &E29&"°C","Thermal actuator (not recommended)") -> Thermal actuator set to 26°C | E27: ="T"&E29 -> T26 | F27: =IF($C$19<=6,"Thermal actuator "&IF(ISNUMBER(E29),"set to "&E29&"°C","(not recommended)"),"selection not valid") -> Thermal actuator set to 26°C | G27: Thermal element
C29: 1 | D29: =VLOOKUP(C29,C23:E27,3,0) -> M | E29: =IF(ISNUMBER(HLOOKUP(C19,'Equations HSC-AD'!C242:M263,'Equations HSC-AD'!A262,0)),HLOOKUP(C19,'Equations HSC-AD'!C242:M263,'Equations HSC-AD'!A262,0),"<n.r.>") -> 26 | F29: =VLOOKUP(C29,C23:F27,4,0) -> Manual adjustment
C31: 1 | D31: 2 | E31: 3 | F31: 4 | G31: 5 | H31: 6 | I31: 7
B32: Face Size | C32: 250 | D32: C375 | E32: S345 | F32: custom | G32: N/A | H32: N/A | I32: 375
C33: 355 | D33: C530 | E33: S445 | F33: S595 | G33: S603 | H33: custom | I33: 530
C34: 500 | D34: C750 | E34: S595 | F34: S603 | G34: custom | H34: N/A | I34: 750
C35: 710 | D35: C1000 | E35: custom | F35: N/A | G35: N/A | H35: N/A | I35: 1000
C36: 1000 | D36: C1420 | E36: custom | F36: N/A | G36: N/A | H36: N/A | I36: 1420
D37: 1 | E37: 2 | F37: 3 | G37: 4 | H37: 5
C38: Table | D38: =IFERROR(VLOOKUP($D$19,$C$32:$H$36,D31,0),"Circle") -> C750 | E38: =IFERROR(VLOOKUP($D$19,$C$32:$H$36,E31,0),"Square") -> S595 | F38: =IFERROR(VLOOKUP($D$19,$C$32:$H$36,F31,0),"") -> S603 | G38: =IFERROR(VLOOKUP($D$19,$C$32:$H$36,G31,0),"") -> custom | H38: =IFERROR(VLOOKUP($D$19,$C$32:$H$36,H31,0),"") -> N/A
C39: SELECTION
C40: 1 | D40: =HLOOKUP(C40,D37:H38,2,0) -> C750
C41: size | D41: =IF(C40=1,VLOOKUP(D19,C31:I36,7,0),IF(D42="S",RIGHT(D40,3),"")) -> 750
C42: Shape | D42: =IF(OR(D40="custom",D40="N/A"),"",LEFT(D40,1)) -> C | E42: =IF(D42="C"," mm diameter circular face",IF(D42="S"," mm square face","")) -> mm diameter circular face
C43: Description | D43: =IF(D40="custom","Custom face size - please contact Smartair",IF(D40="N/A","please select a valid face shape",D41&E42)) -> 750 mm diameter circular face
C44: Selection Code | D44: =IF(OR(D40="custom",D40="N/A"),"<face>",D40) -> C750
B47: Colour | C47: 1 | D47: RAL9003 | E47: RAL9003 (signal white)
...

Sheet Print Summary
B1: HSC-AD Performance Calculator Summary
A3: Project | B3: ='HSC-AD'!D5 -> <Project Name>
A4: Company | B4: <Name>
A5: Consultant | B5: <Name>
A7: Product | B7: SMARTEMP HSC-AD
B8: Adjustable Helical Swirl Diffuser
A9: Size | B9: ='HSC-AD data'!C70 -> DN500-R0
A10: Guide Ring Adjustment Type | B10: =VLOOKUP('HSC-AD data'!C29,'HSC-AD data'!C23:G27,4,0) -> Manual adjustment
A13: Project Summary | D13: Direction Adjustment
A14: Selected Airflow Rate | B14: ='HSC-AD data'!C98 -> 600 L/s @ 29.8 Pa static | D14: ='HSC-AD data'!C108 -> Manual Adjustment selected | E14: ='HSC-AD data'!C109
A15: Min Permissible Airflow | B15: ='HSC-AD data'!C99 -> 335 L/s @ ΔT = -12 K | E15: ='HSC-AD data'!C110
A16: Max Heating ΔT | B16: ='HSC-AD data'!C100 -> + 7.1 K
A18: Acoustic Performance
A19: Sound Power Level | B19: ='HSC-AD data'!C112 -> 46 dB(A)
A26: Comfort Performance & Recommended Layout
A27: ADPI | B27: ='HSC-AD data'!B132 -> > 90%
A28: Mean Room Air Velocity | B28: ='HSC-AD data'!B133 -> 0.15 m/s
A29: Mean Draught Rating | B29: ='HSC-AD data'!B134 -> 13.9% @ room temp. of 23ºC
A30: Mean PPD | B30: ='HSC-AD data'!B135 -> < 7.4 %
A31: Satisfies PPD (ISO7730) | B31: ='HSC-AD data'!B136 -> Category B
A32: Mean PMV * | B32: ='HSC-AD data'!B137 -> 0.34
A33: * ISO7730; ASHRAE Std 55
A43: Description | B43: ='HSC-AD data'!C64 -> Diffuser HSC-AD-DN500-R0 (neck diameter 500 mm without reducer)
B44: ='HSC-AD data'!C65 -> 750 mm diameter circular face
B45: ='HSC-AD data'!C66 -> Manual adjustment
B46: ='HSC-AD data'!C67 -> Powder coated to RAL9003 (signal white)
A48: Order Code | B48: ='HSC-AD data'!D53 -> SMARTEMP HSC-AD-DN500-R0-C750-M-RAL9003

Sheet Tender Text
