Workbook
Name adpi.: 'HSC-AD data'!$B$2:$B$5
Name face250: 'HSC-AD data'!$M$33:$M$34
Name face355: 'HSC-AD data'!$N$33:$N$36
Name face500: 'HSC-AD data'!$O$33:$O$35
Name size.: 'HSC-AD data'!$C$57:$C$61

Sheet HSC-AD
C2: SMARTEMP PRODUCT SELECTION CALCULATOR
C3: Adjustable Helical Swirl Diffuser [HSC-AD]
C5: Project: | D5: <Project Name>
C7: Inputs | J7: Optional | X7: v 5.4 [08/19]
D9: Diffuser Airflow Rate | E9: 600 | G9: [L/s] | H9: [m3/h] | K9: ADPI ≥ | L9: 0.9 | N9: default ≥ 90%
E10: ="= "&ROUND(E9*'Equations HSC-AD'!C6,1) -> = 2160 | F10: ='Equations HSC-AD'!D6 -> m³/h
D11: Turndown to | E11: 100 | F11: % | J11: Draught Rating & Heating
D13: Maximum Static Pressure | E13: 60 | F13: Pa | G13: default 60 Pa | J13: Diffuser Distance = Average(Max, Min) Centreline Distance
J14: OR | L14: ="nominal distance = "&ROUND('Equations HSC-AD'!C209,1) -> nominal distance = 10.1 | M14: m | N14: see rows 47 and 48
D15: Diffuser Height | E15: 6 | F15: m | G15: 2 m ≤ height ≤ 20 m | J15: Manual Diffuser Distance | L15: 11.7 | M15: m | N15: centreline distance between diffusers
J16: OR | L16: ="= specific airflow rate: "&ROUND('Equations HSC-AD'!C199,1) -> = specific airflow rate: 5.9 | M16: ='Equations HSC-AD'!G3 -> L/s/m²
D17: ΔT (cooling) | E17: -12 | F17: K | G17: 0 K to -15 K (default -12 K) | J17: Specific Airflow Rate | L17: 10 | M17: ='Equations HSC-AD'!G3 -> L/s/m² | N17: =IF('Equations HSC-AD'!C3=1,"≤ 30 L/s/m²","≤ 108 m³/h/m²") -> ≤ 30 L/s/m²
L18: ="average diffuser centreline distance: " & ROUND('Equations HSC-AD'!C200,1) -> average diffuser centreline distance: 10.1 | M18: m
K19: Diffuser Location | M19: Closed Ceiling | N19: Freely Suspended (≥ 600mm below ceiling)
K21: ΔT (heating) | L21: 4 | M21: K | N21: check for manual input
K23: Room Temperature (cooling) | L23: 23 | M23: °C | N23: 20 °C to 26 °C
K25: Room Temperature (heating) | L25: 20 | M25: °C | N25: check for manual input
L26: ="auto room temp. (heating) = "& 'Equations HSC-AD'!C23 -> auto room temp. (heating) = 21 | M26: °C
K27: Room Temp. @ heating startup | L27: 16 | M27: °C | N27: night setback temperature
K29: % Low Level Return (heating) | L29: 0 | N29: 0% to 100% (default 0%)
K31: Thermal Comfort Guide
K32: ADPI ≥ 95%; ṽ ≤ 0.20 m/s: | L32: Premium comfort, sedentary activity, such as in auditoria.
K33: ADPI ≥ 90%; ṽ ≤ 0.25 m/s: | L33: High comfort near-sedentary activity, such as in board rooms, high end offices and libraries.
K34: ADPI ≥ 80%; ṽ ≤ 0.29 m/s: | L34: Good comfort near sedentary activity, such as open-plan offices and meeting rooms.
K35: ADPI ≥ 70%; ṽ ≤ 0.33 m/s: | L35: Standard comfort medium activity, such as in transient spaces, retail and lobbies.
N38: not available in all regions | P38: FUSION DN1340 | U38: Key: | V38: Suitable | W38: Not Suitable | X38: Warning
F39: DN250-R1 | G39: DN250-R0 | H39: DN355-R1 | I39: DN355-R0 | J39: DN500-R1 | K39: DN500-R0 | L39: DN710-R1 | M39: DN710-R0 | N39: DN1000-R1 | O39: DN1000-R0 | U39: Note: | V39: R0 - no reducer; R1 - with reducer
C40: ='Equations HSC-AD'!B244 -> Max Airflow [L/s] | F40: ='Equations HSC-AD'!C244 -> 600 | G40: ='Equations HSC-AD'!D244 -> 600 | H40: ='Equations HSC-AD'!E244 -> 600 | I40: ='Equations HSC-AD'!F244 -> 600 | J40: ='Equations HSC-AD'!G244 -> 600 | K40: ='Equations HSC-AD'!H244 -> 600 | L40: ='Equations HSC-AD'!I244 -> 600 | M40: ='Equations HSC-AD'!J244 -> 600 | ... P40: ='Equations HSC-AD'!M244 -> 600 | U40: Note: | V40: Max operating temperature 50°C
C41: ='Equations HSC-AD'!B245 -> Max Permissible Airflow [L/s] | F41: ='Equations HSC-AD'!C245 -> 178.55755 | G41: ='Equations HSC-AD'!D245 -> 199.37101 | H41: ='Equations HSC-AD'!E245 -> 358.21055 | I41: ='Equations HSC-AD'!F245 -> 451.32339 | J41: ='Equations HSC-AD'!G245 -> 660.5534 | K41: ='Equations HSC-AD'!H245 -> 779.95692 | L41: ='Equations HSC-AD'!I245 -> 1331.9399 | M41: ='Equations HSC-AD'!J245 -> 1572.7051 | ... P41: ='Equations HSC-AD'!M245 -> 5601.9626
C42: ='Equations HSC-AD'!B246 -> Min Airflow (Turndown To) [L/s] | F42: ='Equations HSC-AD'!C246 -> 600 | G42: ='Equations HSC-AD'!D246 -> 600 | H42: ='Equations HSC-AD'!E246 -> 600 | I42: ='Equations HSC-AD'!F246 -> 600 | J42: ='Equations HSC-AD'!G246 -> 600 | K42: ='Equations HSC-AD'!H246 -> 600 | L42: ='Equations HSC-AD'!I246 -> 600 | M42: ='Equations HSC-AD'!J246 -> 600 | ... O42: ='Equations HSC-AD'!L246 -> 600
C43: ='Equations HSC-AD'!B247 -> Min Permissible Airflow [L/s] | F43: ='Equations HSC-AD'!C247 -> 59.1 | G43: ='Equations HSC-AD'!D247 -> 84.4 | H43: ='Equations HSC-AD'!E247 -> 118.9 | I43: ='Equations HSC-AD'!F247 -> 169.6 | J43: ='Equations HSC-AD'!G247 -> 234.6 | K43: ='Equations HSC-AD'!H247 -> 335 | L43: ='Equations HSC-AD'!I247 -> 471.8 | M43: ='Equations HSC-AD'!J247 -> 672.6 | ... P43: ='Equations HSC-AD'!M247 -> 2385.9933
C44: Static Pressure @ Airflow Rate [Pa] | F44: ='Equations HSC-AD'!C248 -> 585.97122 | G44: ='Equations HSC-AD'!D248 -> 451.90258 | H44: ='Equations HSC-AD'!E248 -> 145.82911 | I44: ='Equations HSC-AD'!F248 -> 83.535153 | J44: ='Equations HSC-AD'!G248 -> 43.784347 | K44: ='Equations HSC-AD'!H248 -> 29.787502 | L44: ='Equations HSC-AD'!I248 -> 10.768755 | M44: ='Equations HSC-AD'!J248 -> 7.3262327 | ... P44: ='Equations HSC-AD'!M248 -> < 5
C45: Total Pressure @ Airflow Rate [Pa] | F45: ='Equations HSC-AD'!C249 -> 677.48128 | G45: ='Equations HSC-AD'!D249 -> 543.41263 | H45: ='Equations HSC-AD'!E249 -> 168.336 | I45: ='Equations HSC-AD'!F249 -> 106.04204 | J45: ='Equations HSC-AD'!G249 -> 49.503725 | K45: ='Equations HSC-AD'!H249 -> 35.50688 | L45: ='Equations HSC-AD'!I249 -> 12.175435 | M45: ='Equations HSC-AD'!J249 -> < 10 | ... P45: ='Equations HSC-AD'!M249 -> < 10
C46: Max Permissible Static Pressure [Pa] | F46: ='Equations HSC-AD'!C250 -> 60 | G46: ='Equations HSC-AD'!D250 -> 60 | H46: ='Equations HSC-AD'!E250 -> 60 | I46: ='Equations HSC-AD'!F250 -> 60 | J46: ='Equations HSC-AD'!G250 -> 60 | K46: ='Equations HSC-AD'!H250 -> 60 | L46: ='Equations HSC-AD'!I250 -> 60 | M46: ='Equations HSC-AD'!J250 -> 60 | ... P46: ='Equations HSC-AD'!M250 -> 60
C47: Sound Power Level [dB(A)] | F47: ='Equations HSC-AD'!C251 -> 86.189516 | G47: ='Equations HSC-AD'!D251 -> 81.575059 | H47: ='Equations HSC-AD'!E251 -> 70.338786 | I47: ='Equations HSC-AD'!F251 -> 61.193019 | J47: ='Equations HSC-AD'!G251 -> 51.333043 | K47: ='Equations HSC-AD'!H251 -> 45.981392 | L47: ='Equations HSC-AD'!I251 -> 32.947463 | M47: ='Equations HSC-AD'!J251 -> 29.070296 | ... P47: ='Equations HSC-AD'!M251 -> < 20
C48: =IF('Equations HSC-AD'!C25,"Guide Ring Position* @ 'ΔT (heating)'","Max Recommended ΔT (heating) [K]") -> Max Recommended ΔT (heating) [K] | F48: ='Equations HSC-AD'!C252 -> 81.00651 | G48: ='Equations HSC-AD'!D252 -> 56.796294 | H48: ='Equations HSC-AD'!E252 -> 28.228606 | I48: ='Equations HSC-AD'!F252 -> 19.83604 | J48: ='Equations HSC-AD'!G252 -> 10.125814 | K48: ='Equations HSC-AD'!H252 -> 7.0995368 | L48: ='Equations HSC-AD'!I252 -> 3.5285758 | M48: ='Equations HSC-AD'!J252 -> 2.479505 | ... P48: ='Equations HSC-AD'!M252 -> < +1 K | Q48: Warning: Maximum Permissible ΔT < Selected ΔT (heating) when guide ring is fully down
C49: Room Temp. @ heating startup [°C] | F49: ='Equations HSC-AD'!C253 -> 16 | G49: ='Equations HSC-AD'!D253 -> 16 | H49: ='Equations HSC-AD'!E253 -> 16 | I49: ='Equations HSC-AD'!F253 -> 16 | J49: ='Equations HSC-AD'!G253 -> 16 | K49: ='Equations HSC-AD'!H253 -> 16 | L49: ='Equations HSC-AD'!I253 -> 16 | M49: ='Equations HSC-AD'!J253 -> 16 | ... P49: ='Equations HSC-AD'!M253 -> - | Q49: * | R49: 'Guide Ring Position' @ max ΔT is the distance from diffuser face to guide ring trailing edge
C50: Max Recommended Centreline Dist. [m] | F50: ='Equations HSC-AD'!C254 -> - | G50: ='Equations HSC-AD'!D254 -> 44.5 | H50: ='Equations HSC-AD'!E254 -> 19.6 | I50: ='Equations HSC-AD'!F254 -> 17.2 | J50: ='Equations HSC-AD'!G254 -> 15.5 | K50: ='Equations HSC-AD'!H254 -> 14.9 | L50: ='Equations HSC-AD'!I254 -> 13.6 | M50: ='Equations HSC-AD'!J254 -> 13.4 | ... P50: ='Equations HSC-AD'!M254 -> 12.7
C51: Min Recommended Centreline Dist. [m] | F51: ='Equations HSC-AD'!C255 -> - | G51: ='Equations HSC-AD'!D255 -> 31.2 | H51: ='Equations HSC-AD'!E255 -> 7 | I51: ='Equations HSC-AD'!F255 -> 6.3 | J51: ='Equations HSC-AD'!G255 -> 5.7 | K51: ='Equations HSC-AD'!H255 -> 5.5 | L51: ='Equations HSC-AD'!I255 -> 5.1 | M51: ='Equations HSC-AD'!J255 -> 5.1 | ... P51: ='Equations HSC-AD'!M255 -> 4.8 | Q51: =IF('Equations HSC-AD'!N319,"Min Distance > Max Distance. Consider increasing turndown to (Cell E11)","")
C52: Min Recommended Diffuser Height [m] | F52: ='Equations HSC-AD'!C256 -> 2.8 | G52: ='Equations HSC-AD'!D256 -> 2.8 | H52: ='Equations HSC-AD'!E256 -> 2.8 | I52: ='Equations HSC-AD'!F256 -> 3.3 | J52: ='Equations HSC-AD'!G256 -> 3.9 | K52: ='Equations HSC-AD'!H256 -> 4.4 | L52: ='Equations HSC-AD'!I256 -> 5 | M52: ='Equations HSC-AD'!J256 -> 5.5 | ... P52: ='Equations HSC-AD'!M256 -> 7.2
C53: Mean Room Air Velocity [m/s] | F53: ='Equations HSC-AD'!C257 | G53: ='Equations HSC-AD'!D257 -> 0.19567005 | H53: ='Equations HSC-AD'!E257 -> 0.16850725 | I53: ='Equations HSC-AD'!F257 -> 0.16050973 | J53: ='Equations HSC-AD'!G257 -> 0.15187342 | K53: ='Equations HSC-AD'!H257 -> 0.14797008 | L53: ='Equations HSC-AD'!I257 -> 0.13746555 | M53: ='Equations HSC-AD'!J257 -> 0.13544486 | ... P53: ='Equations HSC-AD'!M257 -> 0.12699825 | Q53: Note: | R53: ="Comfort criteria valid for diffuser spacing of "&ROUND('Equations HSC-AD'!C200,1) & " m "& "& room temperature of "& L23&" °C" -> Comfort criteria valid for diffuser spacing of 10.1 m & room temperature of 23 °C
C54: Mean Draught Rating (DR) | F54: ='Equations HSC-AD'!C258 | G54: ='Equations HSC-AD'!D258 -> 0.20110621 | H54: ='Equations HSC-AD'!E258 -> 0.16516736 | I54: ='Equations HSC-AD'!F258 -> 0.15484221 | J54: ='Equations HSC-AD'!G258 -> 0.14381228 | K54: ='Equations HSC-AD'!H258 -> 0.1388655 | L54: ='Equations HSC-AD'!I258 -> 0.12566062 | M54: ='Equations HSC-AD'!J258 -> 0.1231369 | ... P54: ='Equations HSC-AD'!M258 -> 0.11263611 | R54: see cells L14 & L23
C55: Mean PPD | F55: ='Equations HSC-AD'!C259 | G55: ='Equations HSC-AD'!D259 -> 0.10049841 | H55: ='Equations HSC-AD'!E259 -> 0.084931968 | I55: ='Equations HSC-AD'!F259 -> 0.080698606 | J55: ='Equations HSC-AD'!G259 -> 0.076294056 | K55: ='Equations HSC-AD'!H259 -> 0.074358189 | L55: ='Equations HSC-AD'!I259 -> 0.069310451 | M55: ='Equations HSC-AD'!J259 -> 0.068365573 | ... P55: ='Equations HSC-AD'!M259 -> 0.064502476
C56: Satifies PPD Category (ISO7730) | F56: ='Equations HSC-AD'!C260 | G56: ='Equations HSC-AD'!D260 -> C | H56: ='Equations HSC-AD'!E260 -> B | I56: ='Equations HSC-AD'!F260 -> B | J56: ='Equations HSC-AD'!G260 -> B | K56: ='Equations HSC-AD'!H260 -> B | L56: ='Equations HSC-AD'!I260 -> B | M56: ='Equations HSC-AD'!J260 -> B | ... P56: ='Equations HSC-AD'!M260 -> B
C57: |PMV| (ISO7730; ASHRAE Std 55) | F57: ='Equations HSC-AD'!C261 | G57: ='Equations HSC-AD'!D261 -> 0.51260446 | H57: ='Equations HSC-AD'!E261 -> 0.42347964 | I57: ='Equations HSC-AD'!F261 -> 0.39425664 | J57: ='Equations HSC-AD'!G261 -> 0.36080314 | K57: ='Equations HSC-AD'!H261 -> 0.34495729 | L57: ='Equations HSC-AD'!I261 -> 0.29972302 | M57: ='Equations HSC-AD'!J261 -> 0.29053863 | ... P57: ='Equations HSC-AD'!M261 -> 0.2501875
C58: Thermal Element Setting [°C] | F58: ='Equations HSC-AD'!C262 -> n.r. | G58: ='Equations HSC-AD'!D262 -> n.r. | H58: ='Equations HSC-AD'!E262 -> n.r. | I58: ='Equations HSC-AD'!F262 -> n.r. | J58: ='Equations HSC-AD'!G262 -> 30 | K58: ='Equations HSC-AD'!H262 -> 26 | L58: ='Equations HSC-AD'!I262 -> 24 | M58: ='Equations HSC-AD'!J262 -> 22 | ... P58: ='Equations HSC-AD'!M262 -> - | Q58: Note: 'n.r.' - thermal element not recommended
C60: Product Code & Control Voltage Generator
C62: Select Size & Reducer
F63: DN250-R1 | G63: DN250-R0 | H63: DN355-R1 | I63: DN355-R0 | J63: DN500-R1 | K63: DN500-R0 | L63: DN710-R1 | M63: DN710-R0 | N63: DN1000-R1 | O63: DN1000-R0
C64: Face Shape | F64: ='HSC-AD data'!D38&"*" -> C750* | G64: ='HSC-AD data'!E38 -> S595 | H64: ='HSC-AD data'!F38 -> S603 | I64: ='HSC-AD data'!G38 -> custom | J64: ='HSC-AD data'!H38 -> N/A
C65: Adjustment Type | F65: Manual* | H65: ='HSC-AD data'!D25 -> Electric motor 2-10V | J65: ='HSC-AD data'!D26 -> Electric motor 2-position | L65: ='HSC-AD data'!D27 -> Thermal actuator set to 26°C
C66: Colour | F66: RAL9003* (signal white) | H66: RAL9005 (jet black) | J66: other^
E67: Order Code | F67: ='HSC-AD data'!D53 -> SMARTEMP HSC-AD-DN500-R0-C750-M-RAL9003 | K67: * indicates standard/default option
E68: Product Description | G68: =IF('HSC-AD data'!$C$19=0,"","• "&'HSC-AD data'!C64) -> • Diffuser HSC-AD-DN500-R0 (neck diameter 500 mm without reducer) | K68: ^ contact Smartair Diffusion for custom colours
G69: =IF('HSC-AD data'!$C$19=0,"","• "&'HSC-AD data'!C65) -> • 750 mm diameter circular face
G70: =IF('HSC-AD data'!C19=0,"","• "&'HSC-AD data'!C66) -> • Manual adjustment
G71: =IF('HSC-AD data'!C19=0,"","• "&'HSC-AD data'!C67) -> • Powder coated to RAL9003 (signal white) | K71: refer to 'HSC-AD Selection Summary' for a printable summary
I74: click to see product on smartair.asia | S74: Copyright © 2019 SMARTAIR DIFFUSION

Sheet Equations HSC-AD
B1: Units
B3: Unit Type | C3: 1 | D3: =IF(C3=1,"[L/s]","[m³/h]") -> [L/s] | E3: =IF(C3=1,"L/s","m³/h") -> L/s | G3: =IF(C3=1,"L/s/m²","m³/h/m²") -> L/s/m²
B4: Multiplier | C4: =IF(C3=1,1,3.6) -> 1
B6: Alternate | C6: =IF(C3=1,3.6,1/3.6) -> 3.6 | D6: =IF(C3=2,"L/s","m³/h") -> m³/h
B8: Input
B10: Size
B11: Max airflow rate | C11: ='HSC-AD'!E9/C4 -> 600
B12: Turndown to | C12: ='HSC-AD'!E11/100 -> 1
B13: min flowrate | C13: =C12*C11 -> 600
B14: max pressure | C14: ='HSC-AD'!E13 -> 60
B15: diffuser height | C15: ='HSC-AD'!E15 -> 6
B16: dT cooling | C16: =IF(ABS('HSC-AD'!E17)<6,6,ABS('HSC-AD'!E17)) -> 12
B17: Tn.s. | C17: ='HSC-AD'!$L$27 -> 16
B19: adpi | C19: ='HSC-AD'!L9 -> 0.9
B20: Mean room v | C20: =VLOOKUP(C19,'HSC-AD data'!B2:C5,2,0) -> 0.25
B21: Room Temp Cooling | C21: ='HSC-AD'!$L$23 -> 23 | D21: C
B22: room temp checkbox | C22: FALSE
B23: Room Temp Heating | C23: =IF(C22,'HSC-AD'!L25,'Equations HSC-AD'!C21-2) -> 21
B24: T max Correction | C24: =VLOOKUP(C19,B31:C34,2,0) -> 4 | D24: K
B25: dT heating checkbox | C25: FALSE
B26: dT heating manual input | C26: ='HSC-AD'!L21 -> 4 | D26: K
B27: adjusted heating height | C27: =IF(C15<4.5, 1.39*C15-1.75,C15) -> 6
B29: Hmin
B30: adpi | E30: Hmin factor | F30: Factor
B31: 0.7 | C31: 0 | D31: =(C34-C31)/25 -> 0.2 | E31: 0.9 | F31: =VLOOKUP(C19,B31:E34,4,0) -> 1.1
B32: 0.8 | C32: =C31+D31*10 -> 2 | E32: 1
B33: 0.9 | C33: =C31+D31*20 -> 4 | E33: 1.1
B34: 0.95 | C34: =C23-C17 -> 5 | E34: 1.15
B36: Freely Suspended | C36: 2 | D36: =IF(C36=1,"ceiling","free") -> free
B37: Cmin Multiplier | C37: =IF(C36=1,1,0.85) -> 0.85
B38: Cmax Multiplier | C38: =IF(C36=1,1,0.8) -> 0.8
B40: Cmin | C40: x = velocity
B41: H | C41: ax | D41: ^b | E41: Q''
B42: 2.7 | C42: 4510 | D42: 2.2693 | E42: =C42*$C$20^D42 -> 194.05364
B43: 4 | C43: 3884 | D43: 2.2426 | E43: =C43*$C$20^D43 -> 173.42012
B44: 10 | C44: 3435 | D44: 2.2754 | E44: =C44*$C$20^D44 -> 146.55459
B45: 30 | C45: 2736 | D45: 2.2624333 | E45: =C45*$C$20^D45 -> 118.84899
C46: Ax | D46: ^b | E46: Q'' Target
B47: =MIN($C$15,10) -> 6 | C47: =EXP(INDEX(LINEST(LN(E42:E45),LN(B42:B45),,),1,2)) -> 232.52865 | D47: =INDEX(LINEST(LN(E42:E45),LN(B42:B45),,),1) -> -0.1987981 | E47: =C47*B47^D47 -> 162.84765
B48: v' at Vmax | C48: =$E$47/$C$16 -> 13.570637
B49: v' at Vmin | C49: =C48+C50 -> 17.570637
B50: correction v' factor | C50: 4
B52: Cmax
B53: adpi | C53: v' @Vmax | D53: v' @ Vmin | F53: Hfactor @ Vmax | G53: Hfactor @ Vmin
B54: 0.95 | C54: 0.955 | D54: 1.27 | F54: 5.3170379 | G54: 4.4308649
B55: 0.9 | C55: 0.75 | D55: 1 | F55: 6 | G55: 5
B56: 0.8 | C56: 0.5 | D56: 0.66 | F56: 7.3659242 | G56: 6.1382702
B57: 0.7 | C57: 0.35 | D57: 0.47 | F57: 8.7318484 | G57: 7.2765403
B58: v' & Vmax | C58: =VLOOKUP($C$19,B54:D57,2,0) -> 0.75 | E58: at ADPI | F58: =VLOOKUP($C$19,B53:G57,5,0) -> 6 | G58: factor * room height
B59: v' & Vmin | C59: =VLOOKUP($C$19,B54:D57,3,0) -> 1 | F59: =VLOOKUP($C$19,B53:G57,6,0) -> 5
B61: Diffuser Distance Selection Type | C61: 1
B62: Manual Diffuser Distance | C62: ='HSC-AD'!L15 -> 11.7
B63: Specific Flow rate | C63: ='HSC-AD'!L17/C4 -> 10 | D63: max | E63: =IF(C3=1,31,109) -> 31
B64: dist spec flow rate | C64: =SQRT(C11/C63) -> 7.7459667
D65: heating factor
B66: Low level return | C66: ='HSC-AD'!L29 -> 0 | D66: =1+C66 -> 1
B68: Penetration Constant | C68: 4.642
B70: DN250 | E70: pressure | F70: v | L70: DN355 | V70: DN500 | AF70: DN710 | AP70: DN1000 | AZ70: DN1340
B71: Pressure at airflow | C71: =E71*($C$11/F71)^2 -> 543.41263 | D71: p-v | E71: 50 | F71: 182 | G71: =E76/F71 -> 0.46373626 | L71: Pressure at airflow | M71: =O71*($C$11/P71)^2 -> 106.04204 | N71: p-v | O71: 50 | P71: 412 | Q71: =O76/P71 -> 0.41165049 | V71: Pressure at airflow | W71: =Y71*($C$11/Z71)^2 -> 35.50688 | X71: p-v | Y71: 50 | Z71: 712 | AF71: Pressure at airflow | AG71: =AI71*($C$11/AJ71)^2 -> 8.7329131 | AH71: p-v | AI71: 50 | AJ71: =Z71*(710/500)^2 -> 1435.6768 | AP71: Pressure at airflow | AQ71: =AS71*($C$11/AT71)^2 -> 2.21918 | AR71: p-v | AS71: 50 | AT71: =AJ71*(1000/710)^2 -> 2848 | AZ71: Pressure at airflow | BA71: =BC71*($C$11/BD71)^2 -> 0.68829298 | BB71: p-v | BC71: 50 | BD71: =AT71*(1340/1000)^2 -> 5113.8688
B72: Neck Dia. | C72: 250 | L72: Neck Dia. | M72: 355 | V72: Neck Dia. | W72: 500 | Y72: =Y71*(Z72/Z71)^2 -> 42.963325 | Z72: 660 | AF72: Neck Dia. | AG72: 710 | AP72: Neck Dia. | AQ72: 1000 | AZ72: Neck Dia. | BA72: 1340
B73: Neck Area | C73: =PI()*(C72/2000)^2 -> 0.049087385 | L73: Neck Area | M73: =PI()*(M72/2000)^2 -> 0.098979804 | V73: Neck Area | W73: =PI()*(W72/2000)^2 -> 0.19634954 | AA73: =440*1.75 -> 770 | AF73: Neck Area | AG73: =PI()*(AG72/2000)^2 -> 0.39591921 | AP73: Neck Area | AQ73: =PI()*(AQ72/2000)^2 -> 0.78539816 | AZ73: Neck Area | BA73: =PI()*(BA72/2000)^2 -> 1.4102609
B74: Static Pressure | C74: =C71-(0.5*1.225*($C$11/(1000*C73))^2) -> 451.90258 | L74: Static Pressure | M74: =M71-(0.5*1.225*($C$11/(1000*M73))^2) -> 83.535153 | V74: Static Pressure | W74: =W71-(0.5*1.225*($C$11/(1000*W73))^2) -> 29.787502 | AF74: Static Pressure | AG74: =AG71-(0.5*1.225*($C$11/(1000*AG73))^2) -> 7.3262327 | AP74: Static Pressure | AQ74: =AQ71-(0.5*1.225*($C$11/(1000*AQ73))^2) -> 1.8617189 | AZ74: Static Pressure | BA74: =BA71-(0.5*1.225*($C$11/(1000*BA73))^2) -> 0.57742411
B75: Flow at max pressure | C75: =F71*SQRT($C$14/E71) -> 199.37101 | L75: Flow at max pressure | M75: =P71*SQRT($C$14/O71) -> 451.32339 | V75: Flow at max pressure | W75: =Z71*SQRT($C$14/Y71) -> 779.95692 | AF75: Flow at max pressure | AG75: =AJ71*SQRT($C$14/AI71) -> 1572.7051 | AP75: Flow at max pressure | AQ75: =AT71*SQRT($C$14/AS71) -> 3119.8277 | AZ75: Flow at max pressure | BA75: =BD71*SQRT($C$14/BC71) -> 5601.9626
B76: Vmin | C76: =E76*SQRT($C$16/F76) -> 84.4 | D76: V at -12K | E76: 84.4 | F76: 12 | L76: Vmin | M76: =O76*SQRT($C$16/P76) -> 169.6 | N76: V at -12K | O76: 169.6 | P76: 12 | V76: Vmin | W76: =Y76*SQRT($C$16/Z76) -> 335 | X76: V at -12K | Y76: 335 | Z76: 12 | AF76: Vmin | AG76: =AI76*SQRT($C$16/AJ76) -> 672.6 | AH76: V at -12K | AI76: 672.6 | AJ76: 12 | AP76: Vmin | AQ76: =AS76*SQRT($C$16/AT76) -> 1328.8 | AR76: V at -12K | AS76: 1328.8 | AT76: 12 | AZ76: Vmin | BA76: =BC76*SQRT($C$16/BD76) -> 2385.9933 | BB76: V at -12K | BC76: =1328.8*(1340/1000)^2 -> 2385.9933 | BD76: 12
B77: SWL | C77: =E77*LN(C71)+F77 -> 81.575059 | E77: 14.05 | F77: -6.91 | L77: SWL | M77: =O77*LN(M71)+P77 -> 61.193019 | O77: 14.24 | P77: -5.22 | V77: SWL | W77: =Y77*LN(W71)+Z77 -> 45.981392 | Y77: 14.29 | Z77: -5.03 | AF77: SWL | AG77: =AI77*LN(AG71)+AJ77 -> 29.070296 | AI77: 14.33 | AJ77: -1.9842331 | AP77: SWL | AQ77: =AS77*LN(AQ71)+AT77 -> 12.484518 | AS77: 14.33 | AT77: 1.0615338 | AZ77: SWL | BA77: =BC77*LN(BA71)+BD77 -> -2.1255374 | BC77: 14.33 | BD77: 3.2273007
B78: Diameter | C78: 250 | L78: Diameter | M78: 355 | V78: Diameter | W78: 500 | AF78: Diameter | AG78: 710 | AP78: Diameter | AQ78: 1000 | AZ78: Diameter | BA78: 1340
B79: Area | C79: =PI()*(C78/2000)^2 -> 0.049087385 | L79: Area | M79: =PI()*(M78/2000)^2 -> 0.098979804 | V79: Area | W79: =PI()*(W78/2000)^2 -> 0.19634954 | AF79: Area | AG79: =PI()*(AG78/2000)^2 -> 0.39591921 | AP79: Area | AQ79: =PI()*(AQ78/2000)^2 -> 0.78539816 | AZ79: Area | BA79: =PI()*(BA78/2000)^2 -> 1.4102609
B80: velocity | C80: =$C$11/1000/C79 -> 12.2231 | L80: velocity | M80: =$C$11/1000/M79 -> 6.0618427 | V80: velocity | W80: =$C$11/1000/W79 -> 3.0557749 | AF80: velocity | AG80: =$C$11/1000/AG79 -> 1.5154607 | AP80: velocity | AQ80: =$C$11/1000/AQ79 -> 0.76394373 | AZ80: velocity | BA80: =$C$11/1000/BA79 -> 0.42545318
B82: Heating | L82: Heating | V82: Heating | AF82: Heating | AP82: Heating | AZ82: Heating
B83: dT Heating | C83: =(3.33/$C$27)^2*$C$68*C80^2*SQRT(C79)*1.2 -> 56.796294 | L83: dT Heating | M83: =(3.33/$C$27)^2*$C$68*M80^2*SQRT(M79)*1.2 -> 19.83604 | V83: dT Heating | W83: =(3.33/$C$27)^2*$C$68*W80^2*SQRT(W79)*1.2 -> 7.0995368 | AF83: dT Heating | AG83: =(3.33/$C$27)^2*$C$68*AG80^2*SQRT(AG79)*1.2 -> 2.479505 | AP83: dT Heating | AQ83: =(3.33/$C$27)^2*$C$68*AQ80^2*SQRT(AQ79)*1.2 -> 0.8874421 | AZ83: dT Heating | BA83: =(3.33/$C$27)^2*$C$68*BA80^2*SQRT(BA79)*1.2 -> 0.36882948 | BB83: H | BF83: K
B84: dT Heating low level corrected | C84: =C83*$D$66 -> 56.796294 | L84: dT Heating low level corrected | M84: =M83*$D$66 -> 19.83604 | V84: dT Heating low level corrected | W84: =W83*$D$66 -> 7.0995368 | AF84: dT Heating low level corrected | AG84: =AG83*$D$66 -> 2.479505 | AP84: dT Heating low level corrected | AQ84: =AQ83*$D$66 -> 0.8874421 | AZ84: dT Heating low level corrected | BA84: =BA83*$D$66 -> 0.36882948 | BB84: 6 | BC84: 4.43e-05 | BD84: 1.673 | BF84: =BC84*$C$11^BD84 -> 1.9690229
B85: dT Heating | C85: =C84 -> 56.796294 | L85: dT Heating | M85: =M84 -> 19.83604 | V85: dT Heating | W85: =W84 -> 7.0995368 | AF85: dT Heating | AG85: =AG84 -> 2.479505 | AP85: dT Heating | AQ85: =AQ84 -> 0.8874421 | AZ85: dT Heating | BA85: =BA84 -> 0.36882948
B86: dT corrected thermal element | C86: =C84+$C$24 -> 60.796294 | L86: dT corrected thermal element | M86: =M84+$C$24 -> 23.83604 | V86: dT corrected thermal element | W86: =W84+$C$24 -> 11.099537 | AF86: dT corrected thermal element | AG86: =AG84+$C$24 -> 6.479505 | AP86: dT corrected thermal element | AQ86: =AQ84+$C$24 -> 4.8874421 | AZ86: dT corrected thermal element | BA86: =BA84+$C$24 -> 4.3688295
B87: T s. | C87: =$C$17+C86 -> 76.796294 | L87: T s. | M87: =$C$17+M86 -> 39.83604 | V87: T s. | W87: =$C$17+W86 -> 27.099537 | AF87: T s. | AG87: =$C$17+AG86 -> 22.479505 | AP87: T s. | AQ87: =$C$17+AQ86 -> 20.887442 | AZ87: T s. | BA87: =$C$17+BA86 -> 20.368829
B88: T element setting | C88: =IF(AND(C87>20,C87<22.5),22,IF(AND(C87>=24.5,C87<27.5),26,IF(AND(C87>29.5,C87<32.5),30,IF(AND(C87>=19.5,C87<32.5),C87,"n.r.")))) -> n.r. | L88: T element setting | M88: =IF(AND(M87>20,M87<22.5),22,IF(AND(M87>=24.5,M87<27.5),26,IF(AND(M87>29.5,M87<32.5),30,IF(AND(M87>=19.5,M87<32.5),M87,"n.r.")))) -> n.r. | V88: T element setting | W88: =IF(AND(W87>20,W87<22.5),22,IF(AND(W87>=24.5,W87<27.5),26,IF(AND(W87>29.5,W87<32.5),30,IF(AND(W87>=19.5,W87<32.5),W87,"n.r.")))) -> 26 | AF88: T element setting | AG88: =IF(AND(AG87>20,AG87<22.5),22,IF(AND(AG87>=24.5,AG87<27.5),26,IF(AND(AG87>29.5,AG87<32.5),30,IF(AND(AG87>=19.5,AG87<32.5),AG87,"n.r.")))) -> 22 | AP88: T element setting | AQ88: =IF(AND(AQ87>20,AQ87<22.5),22,IF(AND(AQ87>=24.5,AQ87<27.5),26,IF(AND(AQ87>29.5,AQ87<32.5),30,IF(AND(AQ87>=19.5,AQ87<32.5),AQ87,"n.r.")))) -> 22 | AZ88: T element setting | BA88: =IF(AND(BA87>20,BA87<22.5),22,IF(AND(BA87>=24.5,BA87<27.5),26,IF(AND(BA87>29.5,BA87<32.5),30,IF(AND(BA87>=19.5,BA87<32.5),BA87,"n.r.")))) -> 22
B90: Min Height | L90: Min Height | V90: Min Height | AF90: Min Height | AP90: Min Height | AZ90: Min Height
B91: Hmin | C91: 2.5 | L91: Hmin | M91: 3 | V91: Hmin | W91: 4 | AF91: Hmin | AG91: 5 | AP91: Hmin | AQ91: 6 | AZ91: Hmin | BA91: 6.5
B92: Hmin Factor | C92: =C91*$F$31 -> 2.75 | L92: Hmin Factor | M92: =M91*$F$31 -> 3.3 | V92: Hmin Factor | W92: =W91*$F$31 -> 4.4 | AF92: Hmin Factor | AG92: =AG91*$F$31 -> 5.5 | AP92: Hmin Factor | AQ92: =AQ91*$F$31 -> 6.6 | AZ92: Hmin Factor | BA92: =BA91*$F$31 -> 7.15
B94: Distance Selection | L94: Distance Selection | V94: Distance Selection | AF94: Distance Selection | AP94: Distance Selection | AZ94: Distance Selection
B95: Vmax | C95: =F71 -> 182 | L95: Vmax | M95: =P71 -> 412 | V95: Vmax | W95: =Z72 -> 660 | AF95: Vmax | AG95: =AJ71 -> 1435.6768 | AP95: Vmax | AQ95: =AT71 -> 2848 | AZ95: Vmax | BA95: =BD71 -> 5113.8688
B96: Vmin | C96: =C95*0.3 -> 54.6 | L96: Vmin | M96: =M95*0.3 -> 123.6 | V96: Vmin | W96: =W95*0.3 -> 198 | AF96: Vmin | AG96: =AG95*0.3 -> 430.70304 | AP96: Vmin | AQ96: =AQ95*0.3 -> 854.4 | AZ96: Vmin | BA96: =BA95*0.3 -> 1534.1606
B98: Cmin | L98: Cmin | V98: Cmin | AF98: Cmin | AP98: Cmin | AZ98: Cmin
B99: v' | C99: =TREND($C$48:$C$49,C95:C96,$C$11,1) -> 0.44661835 | L99: v' | M99: =TREND($C$48:$C$49,M95:M96,$C$11,1) -> 10.963148 | V99: v' | W99: =TREND($C$48:$C$49,W95:W96,$C$11,1) -> 14.090118 | AF99: v' | AG99: =TREND($C$48:$C$49,AG95:AG96,$C$11,1) -> 16.896801 | AP99: v' | AQ99: =TREND($C$48:$C$49,AQ95:AQ96,$C$11,1) -> 18.081071 | AZ99: v' | BA99: =TREND($C$48:$C$49,BA95:BA96,$C$11,1) -> 18.614477
B100: Cmin | C100: =SQRT($C$11/C99) -> 36.652816 | L100: Cmin | M100: =SQRT($C$11/M99) -> 7.3978921 | V100: Cmin | W100: =SQRT($C$11/W99) -> 6.5255679 | AF100: Cmin | AG100: =SQRT($C$11/AG99) -> 5.959 | AP100: Cmin | AQ100: =SQRT($C$11/AQ99) -> 5.7605447 | AZ100: Cmin | BA100: =SQRT($C$11/BA99) -> 5.6774093
B101: Cmin Freely Suspended | C101: =IFERROR(C100*$C$37,"") -> 31.154893 | D101: adjusts for adpi/temp/height through Q vs u_max | L101: Cmin Freely Suspended | M101: =IFERROR(M100*$C$37,"") -> 6.2882083 | N101: adjusts for adpi/temp/height through Q vs u_max | V101: Cmin Freely Suspended | W101: =IFERROR(W100*$C$37,"") -> 5.5467327 | X101: adjusts for adpi/temp/height through Q vs u_max | AF101: Cmin Freely Suspended | AG101: =IFERROR(AG100*$C$37,"") -> 5.06515 | AH101: adjusts for adpi/temp/height through Q vs u_max | AP101: Cmin Freely Suspended | AQ101: =IFERROR(AQ100*$C$37,"") -> 4.896463 | AR101: adjusts for adpi/temp/height through Q vs u_max | AZ101: Cmin Freely Suspended | BA101: =IFERROR(BA100*$C$37,"") -> 4.8257979 | BB101: adjusts for adpi/temp/height through Q vs u_max
B103: Cmax | L103: Cmax | V103: Cmax | AF103: Cmax | AP103: Cmax | AZ103: Cmax
B104: v' @ V | C104: =TREND($C$58:$C$59,C95:C96,$C$13,1) -> -0.070251177 | L104: v' @ V | M104: =TREND($C$58:$C$59,M95:M96,$C$13,1) -> 0.5870319 | V104: v' @ V | W104: =TREND($C$58:$C$59,W95:W96,$C$13,1) -> 0.78246753 | AF104: v' @ V | AG104: =TREND($C$58:$C$59,AG95:AG96,$C$13,1) -> 0.95788523 | AP104: v' @ V | AQ104: =TREND($C$58:$C$59,AQ95:AQ96,$C$13,1) -> 1.0319021 | AZ104: v' @ V | BA104: =TREND($C$58:$C$59,BA95:BA96,$C$13,1) -> 1.06524
B105: H Factor | C105: =TREND($F$58:$F$59,C95:C96,$C$13,1) -> 9.2810047 | L105: H Factor | M105: =TREND($F$58:$F$59,M95:M96,$C$13,1) -> 6.6518724 | V105: H Factor | W105: =TREND($F$58:$F$59,W95:W96,$C$13,1) -> 5.8701299 | AF105: H Factor | AG105: =TREND($F$58:$F$59,AG95:AG96,$C$13,1) -> 5.1684591 | AP105: H Factor | AQ105: =TREND($F$58:$F$59,AQ95:AQ96,$C$13,1) -> 4.8723917 | AZ105: H Factor | BA105: =TREND($F$58:$F$59,BA95:BA96,$C$13,1) -> 4.73904
B107: c max eqn | C107: =SQRT($C$13/C104)*SQRT(2.7/$C$15) -> #NUM! | L107: c max eqn | M107: =SQRT($C$13/M104)*SQRT(2.7/$C$15) -> 21.446234 | V107: c max eqn | W107: =SQRT($C$13/W104)*SQRT(2.7/$C$15) -> 18.575851 | AF107: c max eqn | AG107: =SQRT($C$13/AG104)*SQRT(2.7/$C$15) -> 16.789012 | AP107: c max eqn | AQ107: =SQRT($C$13/AQ104)*SQRT(2.7/$C$15) -> 16.175683 | AZ107: c max eqn | BA107: =SQRT($C$13/BA104)*SQRT(2.7/$C$15) -> 15.920553
B108: c max room height | C108: =C105*$C$15 -> 55.686028 | L108: c max room height | M108: =M105*$C$15 -> 39.911234 | V108: c max room height | W108: =W105*$C$15 -> 35.220779 | AF108: c max room height | AG108: =AG105*$C$15 -> 31.010755 | AP108: c max room height | AQ108: =AQ105*$C$15 -> 29.23435 | AZ108: c max room height | BA108: =BA105*$C$15 -> 28.43424
B109: Cmax | C109: =IFERROR(MIN(C107,C108),C108)*$C$38*SQRT(12/$C$16) -> 44.548823 | L109: Cmax | M109: =IFERROR(MIN(M107,M108),M108)*$C$38*SQRT(12/$C$16) -> 17.156987 | V109: Cmax | W109: =IFERROR(MIN(W107,W108),W108)*$C$38*SQRT(12/$C$16) -> 14.860681 | AF109: Cmax | AG109: =IFERROR(MIN(AG107,AG108),AG108)*$C$38*SQRT(12/$C$16) -> 13.43121 | AP109: Cmax | AQ109: =IFERROR(MIN(AQ107,AQ108),AQ108)*$C$38*SQRT(12/$C$16) -> 12.940547 | AZ109: Cmax | BA109: =IFERROR(MIN(BA107,BA108),BA108)*$C$38*SQRT(12/$C$16) -> 12.736442
B111: Spacing | L111: Spacing | V111: Spacing | AF111: Spacing | AP111: Spacing | AZ111: Spacing
B113: Avg Diffuser Distance | C113: =$C$209 -> 10.059297 | L113: Avg Diffuser Distance | M113: =$C$209 -> 10.059297 | V113: Avg Diffuser Distance | W113: =$C$209 -> 10.059297 | AF113: Avg Diffuser Distance | AG113: =$C$209 -> 10.059297 | AP113: Avg Diffuser Distance | AQ113: =$C$209 -> 10.059297 | AZ113: Avg Diffuser Distance | BA113: =$C$209 -> 10.059297
B114: Dist. From Spec. flowrate | C114: =SQRT($C$11/$C$63) -> 7.7459667 | L114: Dist. From Spec. flowrate | M114: =SQRT($C$11/$C$63) -> 7.7459667 | V114: Dist. From Spec. flowrate | W114: =SQRT($C$11/$C$63) -> 7.7459667 | AF114: Dist. From Spec. flowrate | AG114: =SQRT($C$11/$C$63) -> 7.7459667 | AP114: Dist. From Spec. flowrate | AQ114: =SQRT($C$11/$C$63) -> 7.7459667 | AZ114: Dist. From Spec. flowrate | BA114: =SQRT($C$11/$C$63) -> 7.7459667
B115: Distance Selected | C115: =IF($C$61=1,C113,IF($C$61=2,$C$62,C114)) -> 10.059297 | L115: Distance Selected | M115: =IF($C$61=1,M113,IF($C$61=2,$C$62,M114)) -> 10.059297 | V115: Distance Selected | W115: =IF($C$61=1,W113,IF($C$61=2,$C$62,W114)) -> 10.059297 | AF115: Distance Selected | AG115: =IF($C$61=1,AG113,IF($C$61=2,$C$62,AG114)) -> 10.059297 | AP115: Distance Selected | AQ115: =IF($C$61=1,AQ113,IF($C$61=2,$C$62,AQ114)) -> 10.059297 | AZ115: Distance Selected | BA115: =IF($C$61=1,BA113,IF($C$61=2,$C$62,BA114)) -> 10.059297
B116: Area | C116: =C115^2 -> 101.18945 | L116: Area | M116: =M115^2 -> 101.18945 | V116: Area | W116: =W115^2 -> 101.18945 | AF116: Area | AG116: =AG115^2 -> 101.18945 | AP116: Area | AQ116: =AQ115^2 -> 101.18945 | AZ116: Area | BA116: =BA115^2 -> 101.18945
B117: V" | C117: =IF($C$61=3,$C$63,$C$11/C116) -> 5.929472 | L117: V" | M117: =IF($C$61=3,$C$63,$C$11/M116) -> 5.929472 | V117: V" | W117: =IF($C$61=3,$C$63,$C$11/W116) -> 5.929472 | AF117: V" | AG117: =IF($C$61=3,$C$63,$C$11/AG116) -> 5.929472 | AP117: V" | AQ117: =IF($C$61=3,$C$63,$C$11/AQ116) -> 5.929472 | AZ117: V" | BA117: =IF($C$61=3,$C$63,$C$11/BA116) -> 5.929472
B118: Q" | C118: =C117*$C$16 -> 71.153663 | D118: W/m2 | E118: note: Q*1.2 density ignored to compensate for mean velocity to max velocity | L118: Q" | M118: =M117*$C$16 -> 71.153663 | N118: W/m2 | O118: note: Q*1.2 density ignored to compensate for mean velocity to max velocity | V118: Q" | W118: =W117*$C$16 -> 71.153663 | X118: W/m2 | Y118: note: Q*1.2 density ignored to compensate for mean velocity to max velocity | AF118: Q" | AG118: =AG117*$C$16 -> 71.153663 | AH118: W/m2 | AI118: note: Q*1.2 density ignored to compensate for mean velocity to max velocity | AP118: Q" | AQ118: =AQ117*$C$16 -> 71.153663 | AR118: W/m2 | AS118: note: Q*1.2 density ignored to compensate for mean velocity to max velocity | AZ118: Q" | BA118: =BA117*$C$16 -> 71.153663 | BB118: W/m2 | BC118: note: Q*1.2 density ignored to compensate for mean velocity to max velocity
B119: V'' correction factor | C119: =(C95-$C$11)/(C95-C96)*(C117/$C$50) -> -4.8636564 | L119: V'' correction factor | M119: =(M95-$C$11)/(M95-M96)*(M117/$C$50) -> -0.96631478 | V119: V'' correction factor | W119: =(W95-$C$11)/(W95-W96)*(W117/$C$50) -> 0.19251532 | AF119: V'' correction factor | AG119: =(AG95-$C$11)/(AG95-AG96)*(AG117/$C$50) -> 1.2326496 | AP119: V'' correction factor | AQ119: =(AQ95-$C$11)/(AQ95-AQ96)*(AQ117/$C$50) -> 1.6715305 | AZ119: V'' correction factor | BA119: =(BA95-$C$11)/(BA95-BA96)*(BA117/$C$50) -> 1.8692067
B120: V'' corrected | C120: =C117-C119 -> 10.793128 | L120: V'' corrected | M120: =M117-M119 -> 6.8957867 | V120: V'' corrected | W120: =W117-W119 -> 5.7369566 | AF120: V'' corrected | AG120: =AG117-AG119 -> 4.6968223 | AP120: V'' corrected | AQ120: =AQ117-AQ119 -> 4.2579414 | AZ120: V'' corrected | BA120: =BA117-BA119 -> 4.0602652
...

Sheet Acoustic_Tool

Sheet Charts
A1: 250
A3: 355
A5: 500
A7: 710
A9: 1000

Sheet Notes & Drawings
C2: SMARTEMP PRODUCT SELECTION CALCULATOR
C3: Adjustable Helical Swirl Diffuser [HSC-AD] Notes
C6: Ceiling Type
C7: Diffuser can be installed substantially flush with a false ceiling or freely suspended.
C9: Acoustics
C10: Without acoustic lining, the sound power level of the connection box is up to 2 dB(A) higher.
C12: Diffuser Dimensions
C14: Model | D14: D2 | E14: D4 | F14: E | G14: D5 | H14: L | I14: H1 | J14: H2 | K14: H3 | L14: F | M14: - note: dimensions currently not available
C15: DN355 | D15: =VLOOKUP($C$15,'HSC-AD data'!$C$57:$L$61,2,0) -> 395 | E15: =VLOOKUP($C$15,'HSC-AD data'!$C$57:$L$61,3,0) -> 530 | F15: =VLOOKUP($C$15,'HSC-AD data'!$C$57:$L$61,4,0) -> 445, 595, 603 | G15: =VLOOKUP($C$15,'HSC-AD data'!$C$57:$L$61,5,0) -> 354 | H15: =VLOOKUP($C$15,'HSC-AD data'!$C$57:$L$61,6,0) -> 495 | I15: =VLOOKUP($C$15,'HSC-AD data'!$C$57:$L$61,7,0) -> 550 | J15: =VLOOKUP($C$15,'HSC-AD data'!$C$57:$L$61,8,0) -> 20 | K15: =VLOOKUP($C$15,'HSC-AD data'!$C$57:$L$61,9,0) -> 80 | L15: =VLOOKUP($C$15,'HSC-AD data'!$C$57:$L$61,10,0) -> 320 | M15: * all dimensions in mm
C17: ="DN = "&D18 -> DN = 355 | D17: =D14&" = "&D15 -> D2 = 395 | E17: =E14&" = "&E15 -> D4 = 530 | F17: =F14&" = "&F15 -> E = 445, 595, 603 | G17: =G14&" = "&G15 -> D5 = 354 | H17: =H14&" = "&H15 -> L = 495 | I17: =I14&" = "&I15 -> H1 = 550 | J17: =J14&" = "&J15 -> H2 = 20 | K17: =K14&" = "&K15 -> H3 = 80 | L17: =L14&" = "&L15 -> F = 320
C18: ="> "& VLOOKUP($C$15,'HSC-AD data'!$C$57:$M$61,11,0) &"(1×DN)" -> > 355(1×DN) | D18: =VLOOKUP($C$15,'HSC-AD data'!$C$57:$M$61,11,0) -> 355
C19: ="D4 = Ø"&E15&" OR E = □"&F15 -> D4 = Ø530 OR E = □445, 595, 603
C58: Adjustment Type Description (for 'Product Code Generator')
C60: Symbol | D60: Description
C61: M | D61: Manual adjustment only.
C62: BE1 | D62: DN250-DN500: With base module and electric actuator 24V, 2-10V.
C63: BE2 | D63: DN250-DN500: With base module and electric actuator 24V, 3-pt (2-position).
C64: BT__ | D64: DN250-DN500: With base module and thermal actuator set to __ (22°C/26°C/30°C, default 26°C).
C65: E3 | D65: DN710: With electric actuator 24V, 2-10V.
C66: T__ | D66: DN710: With thermal actuator set to __ (22°C/26°C/30°C, default 26°C). AVAILABLE IN 2018.

Sheet HSC-AD data diagrams
A1: 250
A2: 355
A3: 500
A4: 710
A5: 1000
A7: Chart Title | B7: ="DN"&'HSC-AD data'!D19&"-R"&'HSC-AD data'!E19&" Electric Control Voltage (V) & Guide Ring Position (mm)" -> DN500-R0 Electric Control Voltage (V) & Guide Ring Position (mm)

Sheet HSC-AD data
B2: 0.95 | C2: 0.2
B3: 0.9 | C3: 0.25
B4: 0.8 | C4: 0.29
B5: 0.7 | C5: 0.33
C7: Product code
D8: DN | E8: R
C9: 1 | D9: 250 | E9: 1
C10: 2 | D10: 250 | E10: 0
C11: 3 | D11: 355 | E11: 1
C12: 4 | D12: 355 | E12: 0
C13: 5 | D13: 500 | E13: 1
C14: 6 | D14: 500 | E14: 0
C15: 7 | D15: 710 | E15: 1
C16: 8 | D16: 710 | E16: 0
C17: 9 | D17: 1000 | E17: 1 | H17: - option not available for size DN710 and DN1000
C18: 10 | D18: 1000 | E18: 0 | H18: - option not available for DN250 - DN500
B19: Model | C19: ='Equations HSC-AD'!C276 -> 6 | D19: =VLOOKUP(C19,C9:E18,2,0) -> 500 | E19: =VLOOKUP(C19,C9:E18,3,0) -> 0 | G19: warning
B20: Mode Code | C20: ="DN"&D19&"-R"&E19 -> DN500-R0
B22: Adjustment
C23: 0
C24: 1 | D24: M | E24: M | F24: Manual adjustment | G24: Manual
C25: 2 | D25: Electric motor 2-10V | E25: E1 | F25: =IF($C$19<=6,"Electric actuator 24V, 2-10V","selection not valid") -> Electric actuator 24V, 2-10V | G25: Electric
C26: 3 | D26: =IF(C19>=7, "N/A", "Electric motor 2-position") -> Electric motor 2-position | E26: E2 | F26: =IF($C$19<=6,"Electric actuator 24V, 3-pt (2 position)","selection not valid") -> Electric actuator 24V, 3-pt (2 position) | G26: Electric
C27: 4 | D27: =IF(ISNUMBER(E29),"Thermal actuator set to " &E29&"°C","Thermal actuator (not recommended)") -> Thermal actuator set to 26°C | E27: ="T"&E29 -> T26 | F27: =IF($C$19<=6,"Thermal actuator "&IF(ISNUMBER(E29),"set to "&E29&"°C","(not recommended)"),"selection not valid") -> Thermal actuator set to 26°C | G27: Thermal element
C29: 1 | D29: =VLOOKUP(C29,C23:E27,3,0) -> M | E29: =IF(ISNUMBER(HLOOKUP(C19,'Equations HSC-AD'!C242:M263,'Equations HSC-AD'!A262,0)),HLOOKUP(C19,'Equations HSC-AD'!C242:M263,'Equations HSC-AD'!A262,0),"<n.r.>") -> 26 | F29: =VLOOKUP(C29,C23:F27,4,0) -> Manual adjustment
C31: 1 | D31: 2 | E31: 3 | F31: 4 | G31: 5 | H31: 6 | I31: 7
B32: Face Size | C32: 250 | D32: C375 | E32: S345 | F32: custom | G32: N/A | H32: N/A | I32: 375
C33: 355 | D33: C530 | E33: S445 | F33: S595 | G33: S603 | H33: custom | I33: 530
C34: 500 | D34: C750 | E34: S595 | F34: S603 | G34: custom | H34: N/A | I34: 750
C35: 710 | D35: C1000 | E35: custom | F35: N/A | G35: N/A | H35: N/A | I35: 1000
C36: 1000 | D36: C1420 | E36: custom | F36: N/A | G36: N/A | H36: N/A | I36: 1420
D37: 1 | E37: 2 | F37: 3 | G37: 4 | H37: 5
C38: Table | D38: =IFERROR(VLOOKUP($D$19,$C$32:$H$36,D31,0),"Circle") -> C750 | E38: =IFERROR(VLOOKUP($D$19,$C$32:$H$36,E31,0),"Square") -> S595 | F38: =IFERROR(VLOOKUP($D$19,$C$32:$H$36,F31,0),"") -> S603 | G38: =IFERROR(VLOOKUP($D$19,$C$32:$H$36,G31,0),"") -> custom | H38: =IFERROR(VLOOKUP($D$19,$C$32:$H$36,H31,0),"") -> N/A
C39: SELECTION
C40: 1 | D40: =HLOOKUP(C40,D37:H38,2,0) -> C750
C41: size | D41: =IF(C40=1,VLOOKUP(D19,C31:I36,7,0),IF(D42="S",RIGHT(D40,3),"")) -> 750
C42: Shape | D42: =IF(OR(D40="custom",D40="N/A"),"",LEFT(D40,1)) -> C | E42: =IF(D42="C"," mm diameter circular face",IF(D42="S"," mm square face","")) -> mm diameter circular face
C43: Description | D43: =IF(D40="custom","Custom face size - please contact Smartair",IF(D40="N/A","please select a valid face shape",D41&E42)) -> 750 mm diameter circular face
C44: Selection Code | D44: =IF(OR(D40="custom",D40="N/A"),"<face>",D40) -> C750
B47: Colour | C47: 1 | D47: RAL9003 | E47: RAL9003 (signal white)
C48: 2 | D48: RAL9005 | E48: RAL9005 (jet black)
C49: 3 | D49: <colour> | E49: custom colour
C51: 1 | D51: =VLOOKUP(C51,C47:D49,2,0) -> RAL9003
B53: Code | D53: =IF(C19=0,"select size to generate order code",CONCATENATE("SMARTEMP HSC-AD-",C20,"-",D44,"-",D29,"-",D51)) -> SMARTEMP HSC-AD-DN500-R0-C750-M-RAL9003
B56: Size | D56: D2 | E56: D4 | F56: E | G56: D5 | H56: L | I56: H1 | J56: H2 | K56: H3 | L56: F
B57: 1 | C57: DN250 | D57: 270 | E57: 375 | F57: 295 | G57: 249 | H57: 425 | I57: 400 | J57: 14 | K57: 60 | L57: 215 | M57: 250
B58: 2 | C58: DN355 | D58: 395 | E58: 530 | F58: 445, 595, 603 | G58: 354 | H58: 495 | I58: 550 | J58: 20 | K58: 80 | L58: 320 | M58: 355
B59: 3 | C59: DN500 | D59: 560 | E59: 750 | F59: 595, 603 | G59: 499 | H59: 695 | I59: 690 | J59: 28 | K59: 100 | L59: 465 | M59: 500
B60: 4 | C60: DN710 | D60: 790 | E60: 1000 | M60: 710
B61: 5 | C61: DN1000 | E61: 1420 | M61: 1000
B63: description
B64: Size | C64: ="Diffuser HSC-AD-" &C20&" (neck diameter " &D19&" mm" &D64&")" -> Diffuser HSC-AD-DN500-R0 (neck diameter 500 mm without reducer) | D64: =IF(E19=0," without reducer", " with reducer") -> without reducer
C65: =D43 -> 750 mm diameter circular face
C66: =F29 -> Manual adjustment
B67: Colour | C67: ="Powder coated to " & VLOOKUP(C51,C47:E49,3,0) -> Powder coated to RAL9003 (signal white)
A69: summary
B70: Size and R | C70: =IF(C19=0,"please select valid size from 'HSC-AD' worksheet","DN"&D19&"-R"&E19) -> DN500-R0 | D70: Format
A71: 2 | B71: ='Equations HSC-AD'!B244 -> Max Airflow [L/s] | C71: =HLOOKUP($C$70,'HSC-AD'!$F$39:$O$58,A71,0) -> 600 | D71: =ROUND(C71,0) -> 600
A72: 3 | B72: ='Equations HSC-AD'!B245 -> Max Permissible Airflow [L/s] | C72: =HLOOKUP($C$70,'HSC-AD'!$F$39:$O$58,A72,0) -> 779.95692 | D72: =ROUND(C72,1) -> 780
A73: 4 | B73: ='Equations HSC-AD'!B246 -> Min Airflow (Turndown To) [L/s] | C73: =HLOOKUP($C$70,'HSC-AD'!$F$39:$O$58,A73,0) -> 600 | D73: =ROUND(C73,0) -> 600
A74: 5 | B74: ='Equations HSC-AD'!B247 -> Min Permissible Airflow [L/s] | C74: =HLOOKUP($C$70,'HSC-AD'!$F$39:$O$58,A74,0) -> 335 | D74: =ROUND(C74,0) -> 335
A75: 6 | B75: ='Equations HSC-AD'!B248 -> Static Pressure | C75: =HLOOKUP($C$70,'HSC-AD'!$F$39:$O$58,A75,0) -> 29.787502 | D75: =ROUND(C75,1) -> 29.8
A76: 7 | B76: ='Equations HSC-AD'!B249 -> Total Pressure | C76: =HLOOKUP($C$70,'HSC-AD'!$F$39:$O$58,A76,0) -> 35.50688
A77: 8 | B77: ='Equations HSC-AD'!B250 -> Max Permissible P | C77: =HLOOKUP($C$70,'HSC-AD'!$F$39:$O$58,A77,0) -> 60
A78: 9 | B78: ='Equations HSC-AD'!B251 -> Sound Power Level | C78: =HLOOKUP($C$70,'HSC-AD'!$F$39:$O$58,A78,0) -> 45.981392 | D78: =ROUND(C78,1) -> 46
A79: 10 | B79: ='Equations HSC-AD'!B252 -> ΔT_max (heating) | C79: =HLOOKUP($C$70,'HSC-AD'!$F$39:$O$58,A79,0) -> 7.0995368 | D79: =ROUND(C79,1) -> 7.1 | E79: max heating | F79: =HLOOKUP(C19,'Equations HSC-AD'!C236:M238,2,0) -> 7.0995368 | G79: =ROUND(F79,1) -> 7.1
A80: 11 | B80: ='Equations HSC-AD'!B253 -> T n.s. | C80: =HLOOKUP($C$70,'HSC-AD'!$F$39:$O$58,A80,0) -> 16 | E80: guide ring | F80: =HLOOKUP(C19,'Equations HSC-AD'!C236:M238,3,0) -> 7.8 | G80: =ROUND(F80,0) -> 8
A81: 12 | B81: ='Equations HSC-AD'!B254 -> Cmax | C81: =HLOOKUP($C$70,'HSC-AD'!$F$39:$O$58,A81,0) -> 14.9 | D81: =ROUND(C81,1) -> 14.9
A82: 13 | B82: ='Equations HSC-AD'!B255 -> Cmin | C82: =HLOOKUP($C$70,'HSC-AD'!$F$39:$O$58,A82,0) -> 5.5 | D82: =ROUND(C82,1) -> 5.5
A83: 14 | B83: ='Equations HSC-AD'!B256 -> Hmin | C83: =HLOOKUP($C$70,'HSC-AD'!$F$39:$O$58,A83,0) -> 4.4 | D83: =ROUND(C83,2) -> 4.4
A84: 15 | B84: ='Equations HSC-AD'!B257 -> Mean Air Velocity | C84: =HLOOKUP($C$70,'HSC-AD'!$F$39:$O$58,A84,0) -> 0.14797008 | D84: =ROUND(C84,2) -> 0.15
A85: 16 | B85: ='Equations HSC-AD'!B258 -> Draft Rating | C85: =HLOOKUP($C$70,'HSC-AD'!$F$39:$O$58,A85,0) -> 0.1388655 | D85: =ROUND(C85,3)*100 -> 13.9
A86: 17 | B86: ='Equations HSC-AD'!B259 -> PPD | C86: =HLOOKUP($C$70,'HSC-AD'!$F$39:$O$58,A86,0) -> 0.074358189 | D86: =ROUND(C86,3) -> 0.074
A87: 18 | B87: ='Equations HSC-AD'!B260 -> PPD Class | C87: =HLOOKUP($C$70,'HSC-AD'!$F$39:$O$58,A87,0) -> B
A88: 19 | B88: ='Equations HSC-AD'!B261 -> PMV | C88: =HLOOKUP($C$70,'HSC-AD'!$F$39:$O$58,A88,0) -> 0.34495729 | D88: =ROUND(C88,2) -> 0.34
A89: 20 | B89: ='Equations HSC-AD'!B262 -> T s. | C89: =HLOOKUP($C$70,'HSC-AD'!$F$39:$O$58,A89,0) -> 26 | D89: =ROUND(C89,1) -> 26
B91: dT | C91: ='HSC-AD'!E17 -> -12
B92: Selected C | C92: =IF('Equations HSC-AD'!C61=1,'Equations HSC-AD'!C209,IF('Equations HSC-AD'!C61=2,'Equations HSC-AD'!C62,IF('Equations HSC-AD'!C61=3,'Equations HSC-AD'!C64))) -> 10.059297
B93: Spec. airflow | C93: =ROUND('Equations HSC-AD'!C199,1) -> 5.9 | D93: ='Equations HSC-AD'!G3 -> L/s/m²
B94: input diffuser height | C94: ='HSC-AD'!E15 -> 6
B95: room temp | C95: ='HSC-AD'!L23 -> 23
B96: selected heating dt | C96: ='HSC-AD'!L21 -> 4
B98: Selected Airflow | C98: =D71 & " L/s @ " &D75 &" Pa static" -> 600 L/s @ 29.8 Pa static
B99: Min Permissible Airflow | C99: =D74 &" L/s @ ΔT = " &C91& " K" -> 335 L/s @ ΔT = -12 K
B100: Max Heating | C100: ="+ "&G79&" K" -> + 7.1 K
B101: Thermal element setting | C101: ="T"&D89 -> T26
B102: Guide Ring | C102: =G80 -> 8
B104: Adjustment
B105: Manual mode | C105: =IF('Equations HSC-AD'!C25,"Manually set guide ring","Manual Adjustment selected") -> Manual Adjustment selected
C106: =C102&" mm recessed from face" -> 8 mm recessed from face
C107: ="for heating at ΔT = +" &C96& " K" -> for heating at ΔT = +4 K
B108: Selection | C108: =IF(C29=1,C105, "Thermal Element Setting") -> Manual Adjustment selected
C109: =IF('Equations HSC-AD'!C25,IF(C29=1,C106,C101),"")
C110: =IF('Equations HSC-AD'!C25,IF(C29=1,C107,""),"")
B112: Sound Power level | C112: =D78 & " dB(A)" -> 46 dB(A)
A114: Diagram
B115: ="Min Recommended Diffuser Height = "&D83& " m" -> Min Recommended Diffuser Height = 4.4 m
B116: ="Selected Diffuser Height = "&C94& " m" -> Selected Diffuser Height = 6 m
B117: Cmin | C117: Cmax
B118: =ROUND(D82,1) -> 5.5 | C118: =ROUND(D81,1) -> 14.9
...

Sheet Print Summary
B1: HSC-AD Performance Calculator Summary
A3: Project | B3: ='HSC-AD'!D5 -> <Project Name>
A4: Company | B4: <Name>
A5: Consultant | B5: <Name>
A7: Product | B7: SMARTEMP HSC-AD
B8: Adjustable Helical Swirl Diffuser
A9: Size | B9: ='HSC-AD data'!C70 -> DN500-R0
A10: Guide Ring Adjustment Type | B10: =VLOOKUP('HSC-AD data'!C29,'HSC-AD data'!C23:G27,4,0) -> Manual adjustment
A13: Project Summary | D13: Direction Adjustment
A14: Selected Airflow Rate | B14: ='HSC-AD data'!C98 -> 600 L/s @ 29.8 Pa static | D14: ='HSC-AD data'!C108 -> Manual Adjustment selected | E14: ='HSC-AD data'!C109
A15: Min Permissible Airflow | B15: ='HSC-AD data'!C99 -> 335 L/s @ ΔT = -12 K | E15: ='HSC-AD data'!C110
A16: Max Heating ΔT | B16: ='HSC-AD data'!C100 -> + 7.1 K
A18: Acoustic Performance
A19: Sound Power Level | B19: ='HSC-AD data'!C112 -> 46 dB(A)
A26: Comfort Performance & Recommended Layout
A27: ADPI | B27: ='HSC-AD data'!B132 -> > 90%
A28: Mean Room Air Velocity | B28: ='HSC-AD data'!B133 -> 0.15 m/s
A29: Mean Draught Rating | B29: ='HSC-AD data'!B134 -> 13.9% @ room temp. of 23ºC
A30: Mean PPD | B30: ='HSC-AD data'!B135 -> < 7.4 %
A31: Satisfies PPD (ISO7730) | B31: ='HSC-AD data'!B136 -> Category B
A32: Mean PMV * | B32: ='HSC-AD data'!B137 -> 0.34
A33: * ISO7730; ASHRAE Std 55
A43: Description | B43: ='HSC-AD data'!C64 -> Diffuser HSC-AD-DN500-R0 (neck diameter 500 mm without reducer)
B44: ='HSC-AD data'!C65 -> 750 mm diameter circular face
B45: ='HSC-AD data'!C66 -> Manual adjustment
B46: ='HSC-AD data'!C67 -> Powder coated to RAL9003 (signal white)
A48: Order Code | B48: ='HSC-AD data'!D53 -> SMARTEMP HSC-AD-DN500-R0-C750-M-RAL9003

Sheet Tender Text
